BEGIN:VCALENDAR
VERSION:2.0
PRODID:-//AudioTheme 2.3.0
BEGIN:VEVENT
UID:urn:uuid:d2fe5cd4-86fc-42ba-9bdd-8650f3accef5
URL:https://johnwillingham.com/calendar/wedding-ceremony/
DTSTART;TZID=GMT:20191102T000000
SUMMARY:Wedding Ceremony
DESCRIPTION:Private wedding ceremony - solo guitar
LOCATION:The Trolley Barn\, 963 Edgewood Avenue\, Atlanta\, GA\, 30307
END:VEVENT
END:VCALENDAR
