BEGIN:VCALENDAR
VERSION:2.0
PRODID:-//AudioTheme 2.3.0
BEGIN:VEVENT
UID:urn:uuid:c09c9a55-5d42-43c3-a674-1e1e65e5ff99
URL:https://johnwillingham.com/calendar/wedding-ceremony-private-6/
DTSTART;TZID=GMT:20190608T000000
SUMMARY:Wedding Ceremony - Private
DESCRIPTION:Will be playing solo guitar for the ceremony
LOCATION:TBD\, Atlanta\, GA
END:VEVENT
END:VCALENDAR
