BEGIN:VCALENDAR
VERSION:2.0
PRODID:-//AudioTheme 2.3.0
BEGIN:VEVENT
UID:urn:uuid:c09c9a55-5d42-43c3-a674-1e1e65e5ff99
URL:https://johnwillingham.com/calendar/wedding-ceremony-private-5/
DTSTART;TZID=GMT:20190518T000000
SUMMARY:Wedding Ceremony - Private
DESCRIPTION:Will be playing solo guitar a wedding ceremony
LOCATION:Glenn Memorial Church\, 1660 North Decatur Road NE\, Atlanta\, Georgia\, 30307
END:VEVENT
END:VCALENDAR
