BEGIN:VCALENDAR
VERSION:2.0
PRODID:-//AudioTheme 2.3.0
BEGIN:VEVENT
UID:urn:uuid:c09c9a55-5d42-43c3-a674-1e1e65e5ff99
URL:https://johnwillingham.com/calendar/wedding-ceremony-private-4/
DTSTART;TZID=GMT:20190427T210000
SUMMARY:Wedding Ceremony - Private
DESCRIPTION:Will be playing classical guitar for the ceremony and acoustic solo for the cocktail hour
LOCATION:Reynolds Plantation\, 1011 Jackson House Lane\, Greensboro\, GA\, 30642
END:VEVENT
END:VCALENDAR
