BEGIN:VCALENDAR
VERSION:2.0
PRODID:-//AudioTheme 2.3.0
BEGIN:VEVENT
UID:urn:uuid:68598c0a-a7a7-4a07-81a0-fc8d9d59dec2
URL:https://johnwillingham.com/calendar/wedding-ceremony-private-3/
DTSTART;TZID=GMT:20190426T150000
SUMMARY:Wedding Ceremony - Private
DESCRIPTION:Solo guitar for wedding ceremony at the beautiful Cator Woolford Gardens 
LOCATION:Cator Woolford Gardens\, 1815 Ponce De Leon Ave NE\, Atlanta\, Georgia\, 30307
END:VEVENT
END:VCALENDAR
