BEGIN:VCALENDAR
VERSION:2.0
PRODID:-//AudioTheme 2.3.0
BEGIN:VEVENT
UID:urn:uuid:ebf841d0-7d0e-4a73-9aef-6b566fa91858
URL:https://johnwillingham.com/calendar/wedding-ceremony-private-2/
DTSTART;VALUE=DATE:20190504
SUMMARY:Wedding Ceremony - Private
DESCRIPTION:Classical guitar and cello for a wedding ceremony at The Foundry at Puritan Mill
END:VEVENT
END:VCALENDAR
