BEGIN:VCALENDAR
VERSION:2.0
PRODID:-//AudioTheme 2.3.0
BEGIN:VEVENT
UID:urn:uuid:8ade95de-3ba3-4075-a986-33ddb0c35ef0
URL:https://johnwillingham.com/calendar/wedding-ceremony-at-reynolds-plantation/
DTSTART;VALUE=DATE:20180915
SUMMARY:Wedding Ceremony at Reynolds Plantation
DESCRIPTION:Wedding ceremony and cocktail hour. 
END:VEVENT
END:VCALENDAR
