BEGIN:VCALENDAR
VERSION:2.0
PRODID:-//AudioTheme 2.3.0
BEGIN:VEVENT
UID:urn:uuid:73184121-2abd-46e2-b5dc-484a3f784d5d
URL:https://johnwillingham.com/calendar/wedding-ceremony-2/
DTSTART;VALUE=DATE:20231013
SUMMARY:Wedding Ceremony
DESCRIPTION:Classical Guitar for a wedding in the Trustee's Garden at the Beautiful Atlanta Botanical Gardens.
LOCATION:Atlanta Botanical Gardens\, 1345 Piedmont Avenue\, Atlanta\, GA\, United States\, 30309
END:VEVENT
END:VCALENDAR
