BEGIN:VCALENDAR
VERSION:2.0
PRODID:-//AudioTheme 2.3.0
BEGIN:VEVENT
UID:urn:uuid:78116fbe-bc0e-4373-ac42-6a7f6de22477
URL:https://johnwillingham.com/calendar/the-brandon-reeves-trio/
DTSTART;TZID=GMT:20251114T010000
SUMMARY:The Brandon Reeves Trio
DESCRIPTION:Looking forward to playing with The Brandon Reeves Trio.   [video width="640" height="360" mp4="https://johnwillingham.com/wp-content/uploads/2025/11/Crazy_JFW_Bass_With_Brandon_Reeves.mp4"][/video]
LOCATION:Blind Willie's\, 828 North Highland Avenue NE\, Atlanta\, GA\, United States\, 30306
END:VEVENT
END:VCALENDAR
