BEGIN:VCALENDAR
VERSION:2.0
PRODID:-//AudioTheme 2.3.0
BEGIN:VEVENT
UID:urn:uuid:96120505-dc1b-43a8-9fea-c7c65480e4b4
URL:https://johnwillingham.com/calendar/spring-awakening-oglethorpe-theatre-3/
DTSTART;TZID=GMT:20191025T000000
SUMMARY:Spring Awakening - Oglethorpe Theatre
DESCRIPTION:Spring Awakening at Oglethorpe Theatre  Playing guitar in the pit    
LOCATION:Conant Performing Arts Center\, 4484 Peachtree Road NE\, Atlanta\, GA\, US\, 30319
END:VEVENT
END:VCALENDAR
