BEGIN:VCALENDAR
VERSION:2.0
PRODID:-//AudioTheme 2.3.0
BEGIN:VEVENT
UID:urn:uuid:d49fc440-87b4-45eb-9f02-cb107cb65ad2
URL:https://johnwillingham.com/calendar/robert-ray-presents-joy-in-the-bleak-midwinter/
DTSTART;TZID=GMT:20231219T000000
SUMMARY:Robert Ray Presents Joy In The Bleak Midwinter
DESCRIPTION:Robert Ray Holiday Show
LOCATION:Virginia-Highland Church\, 743 Virginia Ave NE\, Atlanta\, GA\, United States\, 30306
END:VEVENT
END:VCALENDAR
