BEGIN:VCALENDAR
VERSION:2.0
PRODID:-//AudioTheme 2.3.0
BEGIN:VEVENT
UID:urn:uuid:fcfcb95f-5354-4cc3-8b8f-8bf4865eaea3
URL:https://johnwillingham.com/calendar/robert-ray-joy-a-christmas-cabaret-of-holiday-favorites/
DTSTART;VALUE=DATE:20221220
SUMMARY:Robert Ray - Joy! A Christmas Cabaret of Holiday Favorites
DESCRIPTION:Robert Ray - Joy! A Christmas Cabaret of Holiday Favorites
LOCATION:Ten Atlanta\, 990 Piedmont Ave NE\, Atlanta\, Georgia\, 30309
END:VEVENT
END:VCALENDAR
