BEGIN:VCALENDAR
VERSION:2.0
PRODID:-//AudioTheme 2.3.0
BEGIN:VEVENT
UID:urn:uuid:5c174895-6b2e-4256-9bd0-658cb42d4401
URL:https://johnwillingham.com/calendar/robert-ray-cabaret/
DTSTART;VALUE=DATE:20191120
SUMMARY:Robert Ray Cabaret
DESCRIPTION:Playing bass with the King of Atlanta Cabaret\, Robert Ray
LOCATION:Ten Atlanta\, 990 Piedmont Ave NE\, Atlanta\, Georgia\, 30309
END:VEVENT
END:VCALENDAR
