BEGIN:VCALENDAR
VERSION:2.0
PRODID:-//AudioTheme 2.3.0
BEGIN:VEVENT
UID:urn:uuid:3024275d-30c8-472f-b576-1b3dbc9c02f1
URL:https://johnwillingham.com/calendar/rehearsal-dinner-private/
DTSTART;VALUE=DATE:20190503
SUMMARY:Rehearsal Dinner - Private
DESCRIPTION:Very much looking forward to playing some Texas Swing for a rehearsal dinner at Canoe
END:VEVENT
END:VCALENDAR
