BEGIN:VCALENDAR
VERSION:2.0
PRODID:-//AudioTheme 2.3.0
BEGIN:VEVENT
UID:urn:uuid:7e89ba81-c37c-417c-b539-983c6e77d769
URL:https://johnwillingham.com/calendar/private-party/
DTSTART;VALUE=DATE:20190914
SUMMARY:Private Party
DESCRIPTION:Bluegrass Trio 
LOCATION:Private Party\, Atlanta\, GA\, US
END:VEVENT
END:VCALENDAR
