BEGIN:VCALENDAR
VERSION:2.0
PRODID:-//AudioTheme 2.3.0
BEGIN:VEVENT
UID:urn:uuid:f8957ee3-9db7-4b8b-bafe-c871c1b9ffe1
URL:https://johnwillingham.com/calendar/private-party-with-walkin-boss/
DTSTART;TZID=GMT:20191005T220000
SUMMARY:Private Party with Walkin' Boss
DESCRIPTION:Walkin' Boss is going to play it pretty for the two-steppers!
LOCATION:Private Party\, Atlanta\, GA\, US
END:VEVENT
END:VCALENDAR
