BEGIN:VCALENDAR
VERSION:2.0
PRODID:-//AudioTheme 2.3.0
BEGIN:VEVENT
UID:urn:uuid:d6c8f821-e88c-4d63-bf8d-998651ccfac5
URL:https://johnwillingham.com/calendar/private-party-celebration-of-life/
DTSTART;VALUE=DATE:20191111
SUMMARY:Private Party - Celebration of Life
DESCRIPTION:Celebration of Life
LOCATION:Private Event\, Atlanta\, GA
END:VEVENT
END:VCALENDAR
