BEGIN:VCALENDAR
VERSION:2.0
PRODID:-//AudioTheme 2.3.0
BEGIN:VEVENT
UID:urn:uuid:5e10b5cc-c356-4ffc-9479-605b001e8618
URL:https://johnwillingham.com/calendar/private-party-3/
DTSTART;VALUE=DATE:20240614
SUMMARY:Private Party
DESCRIPTION:Looking forward to playing <a href="https://johnwillingham.com/styles/jazz/solo-jazz-guitar/">solo jazz guitar</a> for a private event on The Skyline Terrace at The Peachtree Club.
LOCATION:Private Event\, Atlanta\, GA
END:VEVENT
END:VCALENDAR
