BEGIN:VCALENDAR
VERSION:2.0
PRODID:-//AudioTheme 2.3.0
BEGIN:VEVENT
UID:urn:uuid:6968b61b-6852-426c-8565-8cdecf34831f
URL:https://johnwillingham.com/calendar/private-party-2/
DTSTART;TZID=GMT:20240225T000000
SUMMARY:Private Party
DESCRIPTION:Solo guitar and vocals for a private party.
LOCATION:Private Party\, Atlanta\, GA\, US
END:VEVENT
END:VCALENDAR
