BEGIN:VCALENDAR
VERSION:2.0
PRODID:-//AudioTheme 2.3.0
BEGIN:VEVENT
UID:urn:uuid:c2af870f-ecf5-4691-93ea-cb07d25ee5f8
URL:https://johnwillingham.com/calendar/private-holiday-party/
DTSTART;VALUE=DATE:20221203
SUMMARY:Private Holiday Party
DESCRIPTION:Holiday Party
LOCATION:Private Party\, Atlanta\, GA\, US
END:VEVENT
END:VCALENDAR
