BEGIN:VCALENDAR
VERSION:2.0
PRODID:-//AudioTheme 2.3.0
BEGIN:VEVENT
UID:urn:uuid:0b8608c7-1dc1-4b62-a4f0-18a730c214d8
URL:https://johnwillingham.com/calendar/private-event-ritz-carlton-lake-oconee/
DTSTART;VALUE=DATE:20251011
SUMMARY:Private Event - Ritz Carlton Lake Oconee
DESCRIPTION:<p>Playing solo guitar and singing for a private event at the beautiful Ritz-Carlton at Lake Oconee.</p>
LOCATION:The Ritz-Carlton Reynolds\, Lake Oconee\, 1 Lake Oconee Trail\, Greensboro\, GA\, 30642
END:VEVENT
END:VCALENDAR
