BEGIN:VCALENDAR
VERSION:2.0
PRODID:-//AudioTheme 2.3.0
BEGIN:VEVENT
UID:urn:uuid:f3c1700f-1598-480d-833e-4ceb522a08af
URL:https://johnwillingham.com/calendar/piano-trio-with-the-michael-vosbein-trio-3/
DTSTART;TZID=GMT:20230708T000000
SUMMARY:Piano Trio with the Michael Vosbein Trio
DESCRIPTION:The Michael Vosbein Trio - Piano\, bass and drums playing standards old and new.
LOCATION:The Cigar Cellar\, 2500 Cobb Pkwy NW Suite B3\, Kennesaw\, GA\, United States\, 30152
END:VEVENT
END:VCALENDAR
