BEGIN:VCALENDAR
VERSION:2.0
PRODID:-//AudioTheme 2.3.0
BEGIN:VEVENT
UID:urn:uuid:2dc4381e-f2a3-4e3b-beb6-d13d6fc2cbfd
URL:https://johnwillingham.com/calendar/parkwoods-at-crown-plaza-3/
DTSTART;TZID=GMT:20240918T203000
SUMMARY:Parkwoods at Crown Plaza
DESCRIPTION:Happy Hour at Parkwoods  Solo Acoustic 
LOCATION:Parkwoods @ Crown Plaza\, 4355 Ashford Dunwoody Road\, Atlanta\, GA\, 30346
END:VEVENT
END:VCALENDAR
