BEGIN:VCALENDAR
VERSION:2.0
PRODID:-//AudioTheme 2.3.0
BEGIN:VEVENT
UID:urn:uuid:1d5b2a47-763c-46d9-9d63-313796362f4a
URL:https://johnwillingham.com/calendar/matt-brooker/
DTSTART;VALUE=DATE:20191205
SUMMARY:Matt Brooker
DESCRIPTION:Playing bass with the spectacular Matt Brooker
LOCATION:Ten Atlanta\, 990 Piedmont Ave NE\, Atlanta\, Georgia\, 30309
END:VEVENT
END:VCALENDAR
