BEGIN:VCALENDAR
VERSION:2.0
PRODID:-//AudioTheme 2.3.0
BEGIN:VEVENT
UID:urn:uuid:1a03efa9-4678-4d69-9a8e-5d48bd57aa1d
URL:https://johnwillingham.com/calendar/matt-brooker-ten-atlanta/
DTSTART;TZID=GMT:20190313T230000
SUMMARY:Matt Brooker @ Ten Atlanta
DESCRIPTION:I'll be playing bass with Matt Brooker and the Robert Strickland Trio for this great night of jazz vocals
LOCATION:Ten Atlanta\, 990 Piedmont Ave NE\, Atlanta\, Georgia\, 30309
END:VEVENT
END:VCALENDAR
