BEGIN:VCALENDAR
VERSION:2.0
PRODID:-//AudioTheme 2.3.0
BEGIN:VEVENT
UID:urn:uuid:cabd8e85-e633-4b91-b240-4a6725aa007c
URL:https://johnwillingham.com/calendar/mama-mia-at-the-paideia-school/
DTSTART;VALUE=DATE:20200128
SUMMARY:Mama Mia at The Paideia School
DESCRIPTION:Playing in the pit at my kid's school!
END:VEVENT
END:VCALENDAR
