BEGIN:VCALENDAR
VERSION:2.0
PRODID:-//AudioTheme 2.3.0
BEGIN:VEVENT
UID:urn:uuid:16ca69ee-0a06-4945-b9d3-30de805f68e2
URL:https://johnwillingham.com/calendar/libbys-at-the-express-ho-ho-home-for-the-holidays-and-a-connie-sue-day-christmas-2021-3/
DTSTART;TZID=GMT:20211219T003000
SUMMARY:Libby's at the Express: Ho, Ho Home for the Holidays and a Connie Sue Day Christmas (2021)
DESCRIPTION:Libby's Annual Christmas Cabaret: "Ho\, Ho\, Home For The Holidays and A Connie Sue Day Christmas"  She's back! Atlanta cabaret legend Libby Whittemore reprises her annual holiday show "Ho\, Ho\, Home for the Holidays and a Connie Sue Day Christmas" at Actor's Express this December.
LOCATION:Actor's Express at the  King Plow Arts Center\, 887 West Marietta Street NW\, Atlanta\, GA\, US\, 30318
END:VEVENT
END:VCALENDAR
