BEGIN:VCALENDAR
VERSION:2.0
PRODID:-//AudioTheme 2.3.0
BEGIN:VEVENT
UID:urn:uuid:599d26be-b634-414b-9de7-8ca3bd0c1a0b
URL:https://johnwillingham.com/calendar/libbys-at-the-express-ho-ho-home-for-the-holidays-and-a-connie-sue-day-christmas-2/
DTSTART;TZID=GMT:20191215T003000
SUMMARY:Libby's at the Express: Ho, Ho Home for the Holidays and a Connie Sue Day Christmas
DESCRIPTION:Libby's at the Express: Ho\, Ho Home for the Holidays and a Connie Sue Day Christmas  Can't wait to play some upright bass with the legendary Libby Whittemore!
LOCATION:Actor's Express at the  King Plow Arts Center\, 887 West Marietta Street NW\, Atlanta\, GA\, US\, 30318
END:VEVENT
END:VCALENDAR
