BEGIN:VCALENDAR
VERSION:2.0
PRODID:-//AudioTheme 2.3.0
BEGIN:VEVENT
UID:urn:uuid:247aa549-591f-49be-b8ac-90996364623c
URL:https://johnwillingham.com/calendar/libby-whittemore-lets-celebrate-the-holidays-2023-5/
DTSTART;TZID=GMT:20240211T003000
SUMMARY:Libby Whittemore - Valentine's Songs of Love!!
DESCRIPTION:Atlanta cabaret legend Libby Whittemore sings songs of love at Actor’s Express February 10\, 2024. 
LOCATION:Actor's Express at the  King Plow Arts Center\, 887 West Marietta Street NW\, Atlanta\, GA\, US\, 30318
END:VEVENT
END:VCALENDAR
