BEGIN:VCALENDAR
VERSION:2.0
PRODID:-//AudioTheme 2.3.0
BEGIN:VEVENT
UID:urn:uuid:247aa549-591f-49be-b8ac-90996364623c
URL:https://johnwillingham.com/calendar/libby-whittemore-lets-celebrate-the-holidays-2023-4/
DTSTART;TZID=GMT:20231217T190000
SUMMARY:Libby Whittemore - Let's celebrate the Holidays 2023!
DESCRIPTION:She’s back! The legendary Libby Whittemore returns to Actor’s Express with her annual holiday show Ho\, Ho\, Home for the Holidays and A Connie Sue Day Christmas.
LOCATION:Actor's Express at the  King Plow Arts Center\, 887 West Marietta Street NW\, Atlanta\, GA\, US\, 30318
END:VEVENT
END:VCALENDAR
