BEGIN:VCALENDAR
VERSION:2.0
PRODID:-//AudioTheme 2.3.0
BEGIN:VEVENT
UID:urn:uuid:8fbaf972-cd42-4a5b-8a90-0c532df23114
URL:https://johnwillingham.com/calendar/libby-whittemore-and-the-dekalb-symphny/
DTSTART;VALUE=DATE:20230725
SUMMARY:Libby Whittemore and the Dekalb Symphony
DESCRIPTION:Playing bass and guitar with Libby Whittemore and The Dekalb Symphony Orchestra!  
LOCATION:Marvin Cole Auditorium @ GSU Clarkston\, 555 North Indian Creek Dr. Clarkston\, GA 30021\, \, Georgia
END:VEVENT
END:VCALENDAR
