BEGIN:VCALENDAR
VERSION:2.0
PRODID:-//AudioTheme 2.3.0
BEGIN:VEVENT
UID:urn:uuid:83ed91dd-2958-4c59-bf0a-cd2911b0da96
URL:https://johnwillingham.com/calendar/lee-harvey-wallbanger-streets-alive/
DTSTART;TZID=GMT:20241020T000000
SUMMARY:Lee Harvey Wallbanger @ Streets Alive
DESCRIPTION:<h3>Lee Harvey Wallbanger @ Streets Alive</h3>  <a href="https://www.facebook.com/events/1064759421862246?acontext=%7B%22event_action_history%22%3A[]%7D">Lee Harvey Wallbanger at Streets Alive</a>
END:VEVENT
END:VCALENDAR
