BEGIN:VCALENDAR
VERSION:2.0
PRODID:-//AudioTheme 2.3.0
BEGIN:VEVENT
UID:urn:uuid:c4c15027-4e2f-4c79-bfc9-160d94fa9db1
URL:https://johnwillingham.com/calendar/lee-harvey-wallbanger-oakhurst-porch-fest/
DTSTART;TZID=GMT:20241019T184500
SUMMARY:Lee Harvey Wallbanger @ Oakhurst Porch Fest
DESCRIPTION:<h3>Lee Harvey Wallbanger @ Oakhurst Porch Fest</h3>  <a href="https://www.facebook.com/events/1592570585005588?acontext=%7B%22event_action_history%22%3A[]%7D">Lee Harvey Wallbanger @ Oakhurst Porch Fest</a>
LOCATION:Porch Fest\, 124 Mead Rd\, Decatur\, GA\, 30030-3621
END:VEVENT
END:VCALENDAR
