BEGIN:VCALENDAR
VERSION:2.0
PRODID:-//AudioTheme 2.3.0
BEGIN:VEVENT
UID:urn:uuid:272ba15e-8d4c-478e-88fa-ed504fadacab
URL:https://johnwillingham.com/calendar/john-solo/
DTSTART;TZID=GMT:20190125T233000
SUMMARY:John Solo
DESCRIPTION:John Willingham will be playing solo guitar and singing. The repertoire is eclectic and includes Great American Songbook standards\, classic pop and rock\, Americana\, folk and jazz
LOCATION:Eataliano Kitchen\, 2480 Briarcliff Rd NE#21\, Atlanta\, GA\, 30329
END:VEVENT
END:VCALENDAR
