BEGIN:VCALENDAR
VERSION:2.0
PRODID:-//AudioTheme 2.3.0
BEGIN:VEVENT
UID:urn:uuid:b6670d3d-d09b-49cd-9b6e-b7572ca523ef
URL:https://johnwillingham.com/calendar/john-solo-at-adeles-on-canton/
DTSTART;TZID=GMT:20190316T230000
SUMMARY:John Solo at Adele's On Canton
DESCRIPTION:Acoustic solo - classic rock\, folk\, country and pop favorites and a few Great American Songbook standards  Adele's is a spectacular Cajun restaurant in lovely Roswell\, GA.
LOCATION:Adele's On Canton\, 1169 Canton Street\, Roswell\, Georgia\, 30075
END:VEVENT
END:VCALENDAR
