BEGIN:VCALENDAR
VERSION:2.0
PRODID:-//AudioTheme 2.3.0
BEGIN:VEVENT
UID:urn:uuid:ffdb4f70-1074-4ea1-98f8-3b3f91b824dd
URL:https://johnwillingham.com/calendar/horseshoe-country-club/
DTSTART;TZID=GMT:20240726T220000
SUMMARY:Horseshoe Country Club
DESCRIPTION:Solo guitar and vocals in the lovely dining room terrace
LOCATION:Horseshoe Bend Country Club\, Roswell\, Georgia
END:VEVENT
END:VCALENDAR
