BEGIN:VCALENDAR
VERSION:2.0
PRODID:-//AudioTheme 2.3.0
BEGIN:VEVENT
UID:urn:uuid:2bdf75ce-9916-4376-acd5-cb4c135aaf29
URL:https://johnwillingham.com/calendar/godspell-theatre-arts-guild-2/
DTSTART;TZID=GMT:20200209T200000
SUMMARY:Godspell @ Theatre Arts Guild
DESCRIPTION:Playing guitar in the pit.
LOCATION:Theatre Arts Guild at Georgia State University\, Perimeter College\, 3735 Memorial College Ave\, Clarkston\, GA\, 30021
END:VEVENT
END:VCALENDAR
