BEGIN:VCALENDAR
VERSION:2.0
PRODID:-//AudioTheme 2.3.0
BEGIN:VEVENT
UID:urn:uuid:2ae99e4a-67e8-4bb3-a388-1b7b920e0b77
URL:https://johnwillingham.com/calendar/duo-w-brandon-reeves/
DTSTART;TZID=GMT:20251025T233000
SUMMARY:Duo w/Brandon Reeves
DESCRIPTION:<p>It's always a pleasure playing with the fine guitarist/singer Brandon Reeves\, an inventive fretboard wizard and teller of tales.</p>
LOCATION:Ground and Pound Coffee\, 8420 Holcomb Bridge Rd Ste 220\, Alpharetta\, GA\, 30022
END:VEVENT
END:VCALENDAR
