BEGIN:VCALENDAR
VERSION:2.0
PRODID:-//AudioTheme 2.3.0
BEGIN:VEVENT
UID:urn:uuid:52996aa6-aaae-440c-8ff8-2219a0d317aa
URL:https://johnwillingham.com/calendar/doublewide-smiths-olde-bar/
DTSTART;TZID=GMT:20240203T020000
SUMMARY:Doublewide @ Smith's Olde Bar
DESCRIPTION:<h2>DoubleWide!!!</h2>
LOCATION:Smith's Olde Bar\, 1578 Piedmont Ave NE\, Atlanta\, GA\, US\, 30324
END:VEVENT
END:VCALENDAR
