BEGIN:VCALENDAR
VERSION:2.0
PRODID:-//AudioTheme 2.3.0
BEGIN:VEVENT
UID:urn:uuid:212abf7c-ab87-46db-a3dd-089964f54067
URL:https://johnwillingham.com/calendar/chicago-3/
DTSTART;TZID=GMT:20240127T000000
SUMMARY:Chicago
LOCATION:The Paideia School\, Atlanta\, GA
END:VEVENT
END:VCALENDAR
