BEGIN:VCALENDAR
VERSION:2.0
PRODID:-//AudioTheme 2.3.0
BEGIN:VEVENT
UID:urn:uuid:828e3f4a-0883-4ffd-8d4a-397e78b0ba4b
URL:https://johnwillingham.com/calendar/2024-02-03/
DTSTART;TZID=GMT:20240203T000000
SUMMARY:Memorial Service
DESCRIPTION:I will be playing classical guitar and accompanying a vocalist on Schubert's beautiful Ave Maria.
LOCATION:Floral Hills Chapel\, Tucker\, GA
END:VEVENT
END:VCALENDAR
