BEGIN:VCALENDAR
VERSION:2.0
PRODID:-//AudioTheme 2.3.0
BEGIN:VEVENT
UID:urn:uuid:32cb862e-87ee-4a55-bbbe-7f46221c2b03
URL:https://johnwillingham.com/calendar/2019-doublewide-reunion/
DTSTART;TZID=GMT:20191215T020000
SUMMARY:2019 Doublewide Reunion!!
DESCRIPTION:<b>Doublewide</b> is coming through again!
LOCATION:Smith's Olde Bar\, 1578 Piedmont Ave NE\, Atlanta\, GA\, US\, 30324
END:VEVENT
END:VCALENDAR
